BEGIN:VCALENDAR
VERSION:2.0
PRODID:-//geodesy.science - IAG website - ECPv6.15.20//NONSGML v1.0//EN
CALSCALE:GREGORIAN
METHOD:PUBLISH
X-WR-CALNAME:geodesy.science - IAG website
X-ORIGINAL-URL:https://geodesy.science
X-WR-CALDESC:Events for geodesy.science - IAG website
REFRESH-INTERVAL;VALUE=DURATION:PT1H
X-Robots-Tag:noindex
X-PUBLISHED-TTL:PT1H
BEGIN:VTIMEZONE
TZID:America/Argentina/San_Juan
BEGIN:STANDARD
TZOFFSETFROM:-0300
TZOFFSETTO:-0300
TZNAME:-03
DTSTART:20240101T000000
END:STANDARD
END:VTIMEZONE
BEGIN:VEVENT
DTSTART;VALUE=DATE:20251027
DTEND;VALUE=DATE:20251102
DTSTAMP:20260425T185238
CREATED:20250910T045813Z
LAST-MODIFIED:20250910T045813Z
UID:29387-1761523200-1762041599@geodesy.science
SUMMARY:XVI SIRGAS School “VLBI and SLR Data Processing”
DESCRIPTION:The XVI SIRGAS School will be held in the beautiful city of San Juan\, Argentina\, with the aim of training professionals in the field of geodesy through the processing of VLBI (Very Long Baseline Interferometry) and SLR (Satellite Laser Ranging) data\, key techniques for the definition of global reference frames. \nThe purpose of this course is to provide the theoretical concepts and practical tools necessary for the analysis and processing of VLBI and SLR techniques\, delving into their application in the definition and maintenance of geodetic reference frames. \n 
URL:https://geodesy.science/event/xvi-sirgas-school-vlbi-slr/
LOCATION:Facultad de Ingeniería – Universidad Nacional de San Juan\, Av. Libertador Gral. San Martín 1109\, J5400ARL San Juan\, Argentina\, San Juan\, Argentina
CATEGORIES:Commission 1,📚 Education & Training
ATTACH;FMTTYPE=image/png:https://geodesy.science/wp-content/uploads/INGLES-1-1536x1536_Copyright-SIRGAS_2025-09-08.png
ORGANIZER;CN="SIRGAS":MAILTO:sirgasipgh@gmail.com
END:VEVENT
END:VCALENDAR