BEGIN:VCALENDAR
VERSION:2.0
PRODID:-//geodesy.science - IAG website - ECPv6.15.20//NONSGML v1.0//EN
CALSCALE:GREGORIAN
METHOD:PUBLISH
X-ORIGINAL-URL:https://geodesy.science
X-WR-CALDESC:Events for geodesy.science - IAG website
REFRESH-INTERVAL;VALUE=DURATION:PT1H
X-Robots-Tag:noindex
X-PUBLISHED-TTL:PT1H
BEGIN:VTIMEZONE
TZID:UTC
BEGIN:STANDARD
TZOFFSETFROM:+0000
TZOFFSETTO:+0000
TZNAME:UTC
DTSTART:20250101T000000
END:STANDARD
END:VTIMEZONE
BEGIN:VTIMEZONE
TZID:Europe/Tirane
BEGIN:DAYLIGHT
TZOFFSETFROM:+0100
TZOFFSETTO:+0200
TZNAME:CEST
DTSTART:20250330T010000
END:DAYLIGHT
BEGIN:STANDARD
TZOFFSETFROM:+0200
TZOFFSETTO:+0100
TZNAME:CET
DTSTART:20251026T010000
END:STANDARD
BEGIN:DAYLIGHT
TZOFFSETFROM:+0100
TZOFFSETTO:+0200
TZNAME:CEST
DTSTART:20260329T010000
END:DAYLIGHT
BEGIN:STANDARD
TZOFFSETFROM:+0200
TZOFFSETTO:+0100
TZNAME:CET
DTSTART:20261025T010000
END:STANDARD
BEGIN:DAYLIGHT
TZOFFSETFROM:+0100
TZOFFSETTO:+0200
TZNAME:CEST
DTSTART:20270328T010000
END:DAYLIGHT
BEGIN:STANDARD
TZOFFSETFROM:+0200
TZOFFSETTO:+0100
TZNAME:CET
DTSTART:20271031T010000
END:STANDARD
END:VTIMEZONE
BEGIN:VEVENT
DTSTART;VALUE=DATE:20260928
DTEND;VALUE=DATE:20261002
DTSTAMP:20260424T140305
CREATED:20250224T061238Z
LAST-MODIFIED:20251017T130541Z
UID:25562-1790553600-1790899199@geodesy.science
SUMMARY:IAG Commission 3 - TIGER Symposium in Geodesy
DESCRIPTION:  \n\nWe will be hosting three consecutive meetings in Gävle (Sweden) in autumn 2026. Please join us for: \n\nTracking and Investigating Geodynamics and Earth Rotation – TIGER Symposium in Geodesy (the 1st symposium of the IAG Commission 3 on Earth Rotation and Geodynamics\, in cooperation with the Journees meeting series) – September 28th to October 1st\, 2026\nGGOS Topical Meeting on Geohazards – October 1st and 2nd\, 2026\nGGOS Days 2026 – October 5th to 7th\, 2026\n\nThe meetings will be in a hybrid format. More details (e.g.\, website\, registration\, abstract submission) will be shared soon. We’re looking forward seeing you in autumn 2026! \nSincerely\, Rebekka Steffen (IAG commission 3 president)\, Laura Sanchez (GGOS President)\, Martin Sehnal (GGOS Coordinating Office)
URL:https://geodesy.science/event/tiger-symposium-commission3/
LOCATION:Gävle\, Sweden\, Gävle\, Sweden
CATEGORIES:Commission 3
ATTACH;FMTTYPE=image/png:https://geodesy.science/wp-content/uploads/tiger_logo_w-text_figure-website-scaled.png
END:VEVENT
BEGIN:VEVENT
DTSTART;VALUE=DATE:20261013
DTEND;VALUE=DATE:20261016
DTSTAMP:20260424T140305
CREATED:20260113T112535Z
LAST-MODIFIED:20260116T085845Z
UID:32647-1791849600-1792108799@geodesy.science
SUMMARY:21st Wegener Assembly\, Albania
DESCRIPTION:The Institute of Geosciences (IGEO) and joint IAG-IASPEI sub-commission “Seismo-geodesy” are delighted to invite you to the 21st WEGENER Assembly\, which will take place in Tirana\, Albania\, from October 13–15\, 2026. \nWEGENER meetings gather geodesists and geoscientists working in the Mediterranean\, earthquake processes and geodynamics. The WEGENER meeting is supported by International Association of Geodesy (IAG) and the International Association of Seismology and Physics of the Earth’s Interior (IASPEI)\, through Sub-commission 3.5 “Seismo-Geodesy” joint between IAG and IASPEI. \nWhether you are an established researcher\, an early-career scientist\, or a student\, Wegener assembly offers a unique opportunity to exchange ideas\, develop collaborations\, and strengthen our scientific community. \nThe meeting will be hosted by the Institute of Geosciences part of Polytechnic University of Tirana. \nAbstract submission and registration will open February\,2 2026. Early-bird registration will be available until July 15\, 2026. Proposed sessions are: \n1. Motion and deformation of the Mediterranean: from kinematics to dynamics\n2. Plate Boundary and Intraplate Processes from Geodetic Observations\n3. Faults and Earthquake Cycle Processes\n4. Geodesy Contribution to Seismic Hazard Assessment & Mitigation\n5. Surface Processes\, Hydrology\, and Anthropogenic Deformation\n6. Emerging Methods and Infrastructures\n7. Volcano and Volcano-Tectonic Deformation \nBeyond the science\, Tirana offers a lively and welcoming atmosphere\, with a blend of Ottoman\, Italian\, and modern architecture\, a vibrant café culture\, and easy access to Albania’s stunning landscapes from the Adriatic coast to the mountains and historical UNESCO World Heritage sites. Its central location and well-connected airport make it a really accessible and attractive destination for colleagues from all over Europe and beyond. \nWe warmly invite you to be part of WEGENER 21st Assembly and to contribute to advancing seismo-geodesy research in the Mediterranean and beyond.
URL:https://geodesy.science/event/21st-wegener-assembly-albania/
LOCATION:Polytechnic University of Tirana\, “Dëshmorët e Kombit”\, Square “Nënë Tereza”\, Tirana\, 1001\, Albania
CATEGORIES:Commission 3,IASPEI
ATTACH;FMTTYPE=image/png:https://geodesy.science/wp-content/uploads/21st-Wegener-Assembly.png
ORGANIZER;CN="SC 3.5 Seismo-geodesy":MAILTO:wegener2026@sciencesconf.org
END:VEVENT
END:VCALENDAR