BEGIN:VCALENDAR
VERSION:2.0
PRODID:-//geodesy.science - IAG website - ECPv6.15.20//NONSGML v1.0//EN
CALSCALE:GREGORIAN
METHOD:PUBLISH
X-ORIGINAL-URL:https://geodesy.science
X-WR-CALDESC:Events for geodesy.science - IAG website
REFRESH-INTERVAL;VALUE=DURATION:PT1H
X-Robots-Tag:noindex
X-PUBLISHED-TTL:PT1H
BEGIN:VTIMEZONE
TZID:UTC
BEGIN:STANDARD
TZOFFSETFROM:+0000
TZOFFSETTO:+0000
TZNAME:UTC
DTSTART:20210101T000000
END:STANDARD
END:VTIMEZONE
BEGIN:VEVENT
DTSTART;VALUE=DATE:20221021
DTEND;VALUE=DATE:20221024
DTSTAMP:20260423T231755
CREATED:20210727T055415Z
LAST-MODIFIED:20251001T110207Z
UID:25501-1666310400-1666569599@geodesy.science
SUMMARY:Unified Analysis Workshop (UAW) 2022
DESCRIPTION:The Unified Analysis Workshop (UAW) 2022 was hold on October 21-23\, 2022 in Thessaloniki\, Greece after the REFAG 2022 Symposium as a hybried meeting. It was co-organized by the IAG’s Global Geodetic Observing System (GGOS) and the International Earth Rotation and Reference Systems Service (IERS) for the purpose of discussing issues that are common to all the space-geodetic measurement techniques. \nAll Photos of UAW are available here \nPresentations\nYou can find all uploaded presentations at Zenodo: https://zenodo.org/communities/uaw2022 \n  \n\nProgram – Schedule\nDownload the full UAW2022 Program here … \n  \nScientific Organizing Committee (SOC):\nThe SOC consits of the main organizers\, the Local Organizing Committee (LOC) and the chairs/co-chairs of the sessions. \nOrganizer:\nBasara Miyahara (GGOS) \nRobert Heinkelmann (IERS) \nZuheir Altamimi (IAG) \nMartin Sehnal (GGOS Coordinating Office) \nLocal Organizing Committee (LOC):\nChristopher Kotsakis \n 
URL:https://geodesy.science/event/unified-analysis-workshop-uaw-2022/
LOCATION:Electra Palace – Thessaloniki\, Greece\, Aristotelous 9\, Thessaloniki\, Greece
CATEGORIES:GGOS,IAG
ATTACH;FMTTYPE=image/png:https://geodesy.science/wp-content/uploads/UAW2022_CoverWebsiteGGOS.png
END:VEVENT
END:VCALENDAR