BEGIN:VCALENDAR
VERSION:2.0
PRODID:-//geodesy.science - IAG website - ECPv6.15.20//NONSGML v1.0//EN
CALSCALE:GREGORIAN
METHOD:PUBLISH
X-WR-CALNAME:geodesy.science - IAG website
X-ORIGINAL-URL:https://geodesy.science
X-WR-CALDESC:Events for geodesy.science - IAG website
REFRESH-INTERVAL;VALUE=DURATION:PT1H
X-Robots-Tag:noindex
X-PUBLISHED-TTL:PT1H
BEGIN:VTIMEZONE
TZID:Europe/Helsinki
BEGIN:DAYLIGHT
TZOFFSETFROM:+0200
TZOFFSETTO:+0300
TZNAME:EEST
DTSTART:20210328T010000
END:DAYLIGHT
BEGIN:STANDARD
TZOFFSETFROM:+0300
TZOFFSETTO:+0200
TZNAME:EET
DTSTART:20211031T010000
END:STANDARD
BEGIN:DAYLIGHT
TZOFFSETFROM:+0200
TZOFFSETTO:+0300
TZNAME:EEST
DTSTART:20220327T010000
END:DAYLIGHT
BEGIN:STANDARD
TZOFFSETFROM:+0300
TZOFFSETTO:+0200
TZNAME:EET
DTSTART:20221030T010000
END:STANDARD
BEGIN:DAYLIGHT
TZOFFSETFROM:+0200
TZOFFSETTO:+0300
TZNAME:EEST
DTSTART:20230326T010000
END:DAYLIGHT
BEGIN:STANDARD
TZOFFSETFROM:+0300
TZOFFSETTO:+0200
TZNAME:EET
DTSTART:20231029T010000
END:STANDARD
END:VTIMEZONE
BEGIN:VEVENT
DTSTART;TZID=Europe/Helsinki:20221114T083000
DTEND;TZID=Europe/Helsinki:20221115T173000
DTSTAMP:20260423T215211
CREATED:20210727T075806Z
LAST-MODIFIED:20260210T071253Z
UID:25502-1668414600-1668533400@geodesy.science
SUMMARY:GGOS Days 2022
DESCRIPTION:GGOS organized the annual GGOS Days in the year 2022 at November 14-15 in Munich (Germany) as a hybrid meeting at the Bavarian Academy of Science and Humanities (BAdW) in the Residenz. GGOS Days is the annual meeting of GGOS to report on recent activities and present plans for the coming year. In total 111 interested people participated in this conference. 33 of them in-person and 78 virtually. \nDownload Documents\nPresentation Slides: at Zenodo Platforms with DOI’s (or at GGOS Cloud) \nPhotos of the Conference: https://cloud.ggos.org/index.php/s/SGaW7fiXM3gCZtT \nVideos – Recording of whole Conference at YouTube – GGOS Days 2022 Playlist \nGGOS Days Minutes (DOI: 10.5281/zenodo.7377449) \n﻿ \nSchedule\nThe detailed schedule will follow… \nVideo\nThe whole GGOS Days conference was recorded and is available at YouTube: GGOS Days 2022 Playlist \n\n\nMeeting Organization \nChair: Basara Miyahara \nLocal Organizer: Detlef Angermann\, Urs Hugentobler\, Laura Sánchez\, Michael Schmidt\, Felix Müller\, Stefanie Daurer\, Julia Schießl \nGGOS Organizer: Martin Sehnal\, Basara Miyahara\, Detlef Angermann\, Mike Pearlman\, Laura Sánchez
URL:https://geodesy.science/event/ggos-days-2022/
CATEGORIES:GGOS
ATTACH;FMTTYPE=image/png:https://geodesy.science/wp-content/uploads/Background.png
END:VEVENT
END:VCALENDAR