BEGIN:VCALENDAR
VERSION:2.0
PRODID:-//geodesy.science - IAG website - ECPv6.15.20//NONSGML v1.0//EN
CALSCALE:GREGORIAN
METHOD:PUBLISH
X-WR-CALNAME:geodesy.science - IAG website
X-ORIGINAL-URL:https://geodesy.science
X-WR-CALDESC:Events for geodesy.science - IAG website
REFRESH-INTERVAL;VALUE=DURATION:PT1H
X-Robots-Tag:noindex
X-PUBLISHED-TTL:PT1H
BEGIN:VTIMEZONE
TZID:UTC
BEGIN:STANDARD
TZOFFSETFROM:+0000
TZOFFSETTO:+0000
TZNAME:UTC
DTSTART:20230101T000000
END:STANDARD
END:VTIMEZONE
BEGIN:VTIMEZONE
TZID:Europe/Helsinki
BEGIN:DAYLIGHT
TZOFFSETFROM:+0200
TZOFFSETTO:+0300
TZNAME:EEST
DTSTART:20230326T010000
END:DAYLIGHT
BEGIN:STANDARD
TZOFFSETFROM:+0300
TZOFFSETTO:+0200
TZNAME:EET
DTSTART:20231029T010000
END:STANDARD
BEGIN:DAYLIGHT
TZOFFSETFROM:+0200
TZOFFSETTO:+0300
TZNAME:EEST
DTSTART:20240331T010000
END:DAYLIGHT
BEGIN:STANDARD
TZOFFSETFROM:+0300
TZOFFSETTO:+0200
TZNAME:EET
DTSTART:20241027T010000
END:STANDARD
BEGIN:DAYLIGHT
TZOFFSETFROM:+0200
TZOFFSETTO:+0300
TZNAME:EEST
DTSTART:20250330T010000
END:DAYLIGHT
BEGIN:STANDARD
TZOFFSETFROM:+0300
TZOFFSETTO:+0200
TZNAME:EET
DTSTART:20251026T010000
END:STANDARD
END:VTIMEZONE
BEGIN:VEVENT
DTSTART;TZID=UTC:20240414T090000
DTEND;TZID=UTC:20240414T160000
DTSTAMP:20260422T194651
CREATED:20240126T142532Z
LAST-MODIFIED:20251006T103209Z
UID:25544-1713085200-1713110400@geodesy.science
SUMMARY:GGOS Governing Board & Bureaus Meetings
DESCRIPTION:The Sunday before the EGU week – April 14\, 2024 – GGOS hold the following three in-person GGOS splinter meetings in Vienna at the TU Wien Freihaus (Wiedner Hauptstraße 8-10). A virtual attendance was possible too. \n\n09:00-11:00 (CEST): GGOS GB Meeting – Governing Board \n\n\nBureau meetings: \n\n11:00-11:45 (CEST): GGOS BPS Meeting – Bureau of Products and Standards\n\n13:00-16:00 (CEST): GGOS BNO Meeting – Bureau of Networks and Observations\n\nMinutes:\n\nGGOS Governing Board Meeting – PDF\nPlease view this article as well:
URL:https://geodesy.science/event/ggos-governing-board-bureaus-meetings/
CATEGORIES:GGOS
ATTACH;FMTTYPE=image/png:https://geodesy.science/wp-content/uploads/ggos_days_conference.png
ORGANIZER;CN="GGOS Coordinating Office":MAILTO:co@ggos.org
END:VEVENT
BEGIN:VEVENT
DTSTART;TZID=Europe/Helsinki:20240415T140000
DTEND;TZID=Europe/Helsinki:20240416T180000
DTSTAMP:20260422T194651
CREATED:20231020T112549Z
LAST-MODIFIED:20250319T134325Z
UID:25536-1713189600-1713290400@geodesy.science
SUMMARY:EGU General Assembly 2024 - GGOS Session
DESCRIPTION:The EGU General Assembly 2024 will be held as usual in Vienna\, Austria\, on April 15-19 2024. \nThe GGOS session is done this year together with the IVS: \nG2.3 Global Geodetic Observing System: The Reference for Earth System Monitoring and featuring VLBI component \n\n\n\n\nOral session: Monday\, April 15: 14:00-15:45 (CEST) – room G2\nVirtual Poster Session: Tuesday\, April 16: 14:00-15:45 (CEST)\nPoster Session: Tuesday\, April 16: 16:15-18:00 (CEST)\n\nGGOS Splinter Meetings\nIn addition GGOS has 3 splinter meetings on Sunday April 14: the \n\nGGOS Governing Board (GB) [GB members only]\, the\nGGOS Bureau of Products and Standards (BPS)\, and the\nGGOS Bureau of networks and Observations (BNO) meeting.\n\nEveryone is invited to participate in the GGOS Bureau meetings (BPS & BNO). More information and registration here: ggos-governing-board-bureaus-meetings \n  \n 
URL:https://geodesy.science/event/egu-general-assembly-2024-ggos-session/
CATEGORIES:GGOS,🌐 Other
ATTACH;FMTTYPE=image/png:https://geodesy.science/wp-content/uploads/conference_egu.png
END:VEVENT
END:VCALENDAR