BEGIN:VCALENDAR
VERSION:2.0
PRODID:-//geodesy.science - IAG website - ECPv6.15.20//NONSGML v1.0//EN
CALSCALE:GREGORIAN
METHOD:PUBLISH
X-ORIGINAL-URL:https://geodesy.science
X-WR-CALDESC:Events for geodesy.science - IAG website
REFRESH-INTERVAL;VALUE=DURATION:PT1H
X-Robots-Tag:noindex
X-PUBLISHED-TTL:PT1H
BEGIN:VTIMEZONE
TZID:UTC
BEGIN:STANDARD
TZOFFSETFROM:+0000
TZOFFSETTO:+0000
TZNAME:UTC
DTSTART:20250101T000000
END:STANDARD
END:VTIMEZONE
BEGIN:VEVENT
DTSTART;VALUE=DATE:20261012
DTEND;VALUE=DATE:20261017
DTSTAMP:20260423T111406
CREATED:20250908T133915Z
LAST-MODIFIED:20250908T133915Z
UID:29332-1791763200-1792195199@geodesy.science
SUMMARY:Gravity Geoid and Height Systems Symposium (GGHS2026)
DESCRIPTION:The Gravity\, Geoid and Height Systems Symposium (GGHS) is a leading international meeting organized under the International Association of Geodesy (IAG). It brings together experts\, researchers\, and students to discuss the latest developments in gravity field modeling\, geoid determination\, height systems\, and their applications in Earth sciences and society. \nThe next edition\, GGHS2026\, will continue this tradition by providing a forum for exchanging ideas\, presenting new research\, and fostering collaboration across the global geodetic community. \n\nThe official website with full details will be available soon.
URL:https://geodesy.science/event/gravity-geoid-and-height-systems-symposium-gghs2026/
LOCATION:Indian National Science Academy\, New Delhi\, India
CATEGORIES:Commission 2,GGOS,IGFS
ATTACH;FMTTYPE=image/jpeg:https://geodesy.science/wp-content/uploads/geoid-c2_edit.jpg
ORGANIZER;CN="Dr. Virendra Tiwari":MAILTO:virendra.m.tiwari@gmail.com
END:VEVENT
BEGIN:VEVENT
DTSTART;VALUE=DATE:20280812
DTEND;VALUE=DATE:20280821
DTSTAMP:20260423T111406
CREATED:20260408T052910Z
LAST-MODIFIED:20260408T052910Z
UID:35257-1849651200-1850428799@geodesy.science
SUMMARY:CGU 2028-IGC2028 First Circular
DESCRIPTION:The Canadian Geophysical Union (CGU) 2028 annual meeting will be held in conjunction with the 38th International Geological Congress (IGC) in Calgary\, Canada\, from August 12–20\, 2028. Under the overarching theme “Geosciences for Humanity\,” this joint event serves as a premier global forum for advancing Earth science research and its societal applications. \nThe CGU program specifically anchors the Geomatics and Geodesy theme (Category V\, Group AJ)\, focusing on the critical role of geodetic infrastructure in monitoring a changing planet. \nKey Scientific Focus Areas: \n\nReference Frames & Gravity: Modernizing global and regional spatial frameworks.\nGeodynamics: Solid Earth processes\, active tectonics\, and natural hazard assessment.\nClimate & Cryosphere: Glacial Isostatic Adjustment (GIA) and sea-level change.\nSpace Geodesy: Advanced GNSS applications\, reflectometry\, and Earth observation.\nEnvironmental Monitoring: Hydrology and anthropogenic impact tracking.\n\nSubmission Deadline: Session proposals must be submitted via the Scientific Program Portal by March 2027. \nThe first circular is available here \n 
URL:https://geodesy.science/event/cgu-2028-igc2028-first-circular/
LOCATION:BMO Centre\, Calagry\, Canada
CATEGORIES:AGU,Commission 1,Commission 2,Commission 3,Commission 4,ECS,EGU,FIG,GGOS,IAG,IAG Comissions,IAG ICCs,IAG Projects,ICCC,ICCM,ICCT,Projet QuGe,📚 Education & Training
ATTACH;FMTTYPE=image/png:https://geodesy.science/wp-content/uploads/ICG2028_Calgary.png
END:VEVENT
END:VCALENDAR