BEGIN:VCALENDAR
VERSION:2.0
PRODID:-//geodesy.science - IAG website - ECPv6.15.20//NONSGML v1.0//EN
CALSCALE:GREGORIAN
METHOD:PUBLISH
X-ORIGINAL-URL:https://geodesy.science
X-WR-CALDESC:Events for geodesy.science - IAG website
REFRESH-INTERVAL;VALUE=DURATION:PT1H
X-Robots-Tag:noindex
X-PUBLISHED-TTL:PT1H
BEGIN:VTIMEZONE
TZID:UTC
BEGIN:STANDARD
TZOFFSETFROM:+0000
TZOFFSETTO:+0000
TZNAME:UTC
DTSTART:20250101T000000
END:STANDARD
END:VTIMEZONE
BEGIN:VEVENT
DTSTART;TZID=UTC:20260512T170000
DTEND;TZID=UTC:20260512T180000
DTSTAMP:20260424T041541
CREATED:20260323T123504Z
LAST-MODIFIED:20260323T123504Z
UID:34662-1778605200-1778608800@geodesy.science
SUMMARY:Talks on GIA Seminar
DESCRIPTION:Allie Coonin (Brown University\, Providence\, USA) and Tamara Pico (University of California\, Santa Cruz\, USA) will present: \n“Transient Earth Rheology Temporarily Slows West Antarctic Ice Retreat in Future Climate Projections” \nProjections of sea-level change and Antarctic Ice Sheet (AIS) stability under anthropogenic climate change hinge upon accurately describing physical feedbacks that link ice dynamics (marine and terrestrial) with the gravitational\, rotational and deformational response of the solid Earth to ice and ocean loading changes. The marine-based West Antarctic Ice Sheet (WAIS) is vulnerable to runaway grounding line retreat. However\, the rapid viscoelastic rebound of the bedrock in response to ice retreat has been shown to stabilize its grounding line\, aided by the low-viscosity mantle beneath the WAIS. Such bedrock deformation is typically modelled with idealized Maxwell viscoelasticity\, despite that rock deformation experiments show that additional transient creep mechanisms occur over societally relevant (~decadal-centennial) timescales that are missing from the Maxwell model. We simulate future AIS evolution\, coupled with self-consistent solid Earth deformation and sea level change\, for various emissions scenarios (RCP 2.6\, 4.5\, 8.5)\, incorporating transient deformation. This more complete treatment of solid Earth deformation delays grounding line retreat as compared to Maxwell projections\, with differences of tens of kilometres persisting for decades at Pine Island and Thwaites Glaciers. While transient deformation is unable to prevent the bulk of sea-level rise over the next 500 years\, such considerations are crucial to predict the full Earth system response\, since AIS meltwater flux to the ocean affects the pace of global temperature rise.
URL:https://geodesy.science/event/talks-on-gia-seminar-5/
CATEGORIES:Commission 3,IACS
ATTACH;FMTTYPE=image/jpeg:https://geodesy.science/wp-content/uploads/AdobeStock_236598424_landscape.jpeg
ORGANIZER;CN="Joint IAG-IACS Commission on Cryospheric Deformation (Sub-Commission 3.4)":MAILTO:matthias.willen@tu-dresden.de
END:VEVENT
BEGIN:VEVENT
DTSTART;VALUE=DATE:20260616
DTEND;VALUE=DATE:20260620
DTSTAMP:20260424T041541
CREATED:20260312T075546Z
LAST-MODIFIED:20260312T075546Z
UID:34152-1781568000-1781913599@geodesy.science
SUMMARY:12 Spanish-Portuguese Assembly of Geodesy & Geophysics
DESCRIPTION:The Spanish-Portuguese Assembly of Geodesy and Geophysics\, which held its first meeting in Almería in 1998\, began meeting every two years\, alternating between the two countries responsible\, Spain and Portugal. Over the course of its sessions\, it has established itself as a research forum in the fields of Geodesy\, Seismology\, Meteorology\, Geomagnetism\, Hydrology\, Oceanography\, Volcanology\, Applied Geophysics\, and Cryospheric Sciences\, as well as a place for meeting and scientific exchange between Spanish and Portuguese researchers through the presentation and discussion of papers in these fields. The COVID-19 period marked the largest gap in the established periodicity\, which we now wish to resume. Thus\, two years after the last meeting\, which took place in Évora in 2024\, the 2026 meeting will be held in Spain. Next June\, from the 16th to the 19th\, Universidad Politécnica de Madrid and its Higher Technical School of Topography\, Geodesy\, and Cartography will host the 12th Spanish-Portuguese Assembly of Geodesy and Geophysics.
URL:https://geodesy.science/event/12-spanish-portuguese-assembly-of-geodesy-geophysics/
LOCATION:ETSI Topografía\, Geodesia y Cartografía\, Mercator Avenue\, Madrid\, 28031\, Spain
CATEGORIES:GGOS,IACS,IAGA,IAHS,IAMAS,IAPSO,IASPEI,IAVCEI,📚 Education & Training
ATTACH;FMTTYPE=image/jpeg:https://geodesy.science/wp-content/uploads/ahpgg_2026.jpg
ORGANIZER;CN="CEGG - Comision Espa%C3%B1ola de Geodesia y Geofisica and Politechnical University of Madrid":MAILTO:ahpgg2026@topografia.upm.es
END:VEVENT
BEGIN:VEVENT
DTSTART;VALUE=DATE:20270716
DTEND;VALUE=DATE:20270723
DTSTAMP:20260424T041541
CREATED:20250305T083912Z
LAST-MODIFIED:20250730T082830Z
UID:25751-1815696000-1816300799@geodesy.science
SUMMARY:IUGG General Assembly 2027
DESCRIPTION:This IUGG General Assembly will get under way at Incheon’s Songdo Convensia in July 2027. Incheon is expecting more than 5\,000 scientists and experts from both Korea and abroad to attend the event. \nEvent Category: iugg
URL:https://geodesy.science/event/iugg-general-assembly-2027/
LOCATION:Incheon\, South Korea\, Incheon\, South Korea
CATEGORIES:IACS,IAG,IAGA,IAHS,IAMAS,IAPSO,IASPEI,IAVCEI,IUGG
ATTACH;FMTTYPE=image/png:https://geodesy.science/wp-content/uploads/iugg2027_incheon-korea.png
END:VEVENT
BEGIN:VEVENT
DTSTART;VALUE=DATE:20280528
DTEND;VALUE=DATE:20280603
DTSTAMP:20260424T041541
CREATED:20251210T083426Z
LAST-MODIFIED:20251210T083426Z
UID:32258-1843084800-1843603199@geodesy.science
SUMMARY:2028 Glacial Isostatic Adjustment Workshop
DESCRIPTION:A workshop focused on glacial isostatic adjustment (GIA)\, ice sheets\, sea-level change\, and associated geodetic and geophysical observational constraints will be held in Dresden\, Germany\, from 28 May to 2 June 2028. This will be a follow-on workshop in a series of similar events. The last GIA Workshop took place in Sidney\, BC\, Canada\, in 2025 (cf. https://polenet.org/2025-gia-workshop/). Detailed information will be published in due time.
URL:https://geodesy.science/event/2028-glacial-isostatic-adjustment-workshop/
LOCATION:TU Dresden\, Dresden\, Germany
CATEGORIES:Commission 3,IACS,IAG,IASPEI,IUGG
ATTACH;FMTTYPE=image/jpeg:https://geodesy.science/wp-content/uploads/AdobeStock_236598424_landscape.jpeg
ORGANIZER;CN="IAG/IACS subcommission 3.4 %E2%80%9CCryospheric Deformation%E2%80%9D":MAILTO:mirko.scheinert@tu-dresden.de
END:VEVENT
END:VCALENDAR