BEGIN:VCALENDAR
VERSION:2.0
PRODID:-//geodesy.science - IAG website - ECPv6.15.20//NONSGML v1.0//EN
CALSCALE:GREGORIAN
METHOD:PUBLISH
X-ORIGINAL-URL:https://geodesy.science
X-WR-CALDESC:Events for geodesy.science - IAG website
REFRESH-INTERVAL;VALUE=DURATION:PT1H
X-Robots-Tag:noindex
X-PUBLISHED-TTL:PT1H
BEGIN:VTIMEZONE
TZID:UTC
BEGIN:STANDARD
TZOFFSETFROM:+0000
TZOFFSETTO:+0000
TZNAME:UTC
DTSTART:20250101T000000
END:STANDARD
END:VTIMEZONE
BEGIN:VEVENT
DTSTART;VALUE=DATE:20260914
DTEND;VALUE=DATE:20260919
DTSTAMP:20260424T071053
CREATED:20260224T113135Z
LAST-MODIFIED:20260224T113135Z
UID:33435-1789344000-1789775999@geodesy.science
SUMMARY:17th European VLBI Network Symposium
DESCRIPTION:The European VLBI Network Symposium is the main forum for discussion of the latest Very Long Baseline Interferometry scientific results and technical and technological developments within the EVN member countries. The purpose of this biennal meeting is to bring together the global VLBI community to exchange knowledge\, share new research\, discuss advancements in VLBI techniques\, and foster a collaborative community in radio astronomy. This year\, for the first time\, there will be a dedicated session on geodetic and astrometric VLBI.
URL:https://geodesy.science/event/17th-european-vlbi-network-symposium/
LOCATION:The University of Manchester\, Manchester\, United Kingdom
CATEGORIES:IAU,IVS
ATTACH;FMTTYPE=image/png:https://geodesy.science/wp-content/uploads/EVN2026-WebBanner_Copyright-LOCEVN2026_2026-02-23_2f3e89-e1771932627221.png
ORGANIZER;CN="European VLBI Network":MAILTO:evn-symposium.2026@manchester.ac.uk
END:VEVENT
END:VCALENDAR