BEGIN:VCALENDAR
VERSION:2.0
PRODID:-//geodesy.science - IAG website - ECPv6.15.20//NONSGML v1.0//EN
CALSCALE:GREGORIAN
METHOD:PUBLISH
X-WR-CALNAME:geodesy.science - IAG website
X-ORIGINAL-URL:https://geodesy.science
X-WR-CALDESC:Events for geodesy.science - IAG website
REFRESH-INTERVAL;VALUE=DURATION:PT1H
X-Robots-Tag:noindex
X-PUBLISHED-TTL:PT1H
BEGIN:VTIMEZONE
TZID:Africa/Johannesburg
BEGIN:STANDARD
TZOFFSETFROM:+0200
TZOFFSETTO:+0200
TZNAME:SAST
DTSTART:20240101T000000
END:STANDARD
END:VTIMEZONE
BEGIN:VTIMEZONE
TZID:UTC
BEGIN:STANDARD
TZOFFSETFROM:+0000
TZOFFSETTO:+0000
TZNAME:UTC
DTSTART:20220101T000000
END:STANDARD
END:VTIMEZONE
BEGIN:VEVENT
DTSTART;VALUE=DATE:20251001
DTEND;VALUE=DATE:20251003
DTSTAMP:20260424T082643
CREATED:20250825T103401Z
LAST-MODIFIED:20250825T105250Z
UID:29160-1759276800-1759449599@geodesy.science
SUMMARY:South African National Geodesy Workshop
DESCRIPTION:Towards a National Geodesy Working Group for South Africa  \nGeodesy — the science of measuring the Earth’s shape\, orientation\, gravity field\, and changes over time — is the foundation of modern mapping\, positioning\, land administration\, infrastructure\, and climate monitoring. \nSouth Africa has a proud history in terrestrial and space geodesy\, from early triangulation networks to today’s NRF Space Geodesy facilities\, TrigNet GNSS stations\, tide gauges\, and participation in global collaborations. Yet\, our efforts remain fragmented across institutions\, with limited coordination. \nIn 2015\, the United Nations adopted Resolution A/RES/69/266 on the Global Geodetic Reference Frame for Sustainable Development (GGRF)\, calling on all countries to strengthen geodetic infrastructure\, skills\, and governance. South Africa must respond by aligning nationally and globally. \nTo this end\, a National Geodesy Workshop will be convened to: \n\nBring together key stakeholders in geodesy.\nStrengthen coordination of infrastructure\, data\, services\, and skills.\nAlign with the UN-GGRF agenda.\nEstablish a National Geodesy Working Group as a formal coordination mechanism.\n\nThis is an exciting step towards ensuring that South Africa continues to play a leading role in geodesy\, contributing both to national development and the global community.
URL:https://geodesy.science/event/south-african-national-geodesy-workshop/
LOCATION:South African Astronomical Observatory (SAAO) Auditorium\, SAAO\, 1 Observatory Rd\, Observatory\, Cape Town\, Cape Town\, 7925\, South Africa
CATEGORIES:GGOS,UN (United Nations)
ATTACH;FMTTYPE=image/png:https://geodesy.science/wp-content/uploads/SAGWG_logo_Copyright-AlethadeWittDSTI_2025-08-22-scaled.png
ORGANIZER;CN="DSTI":MAILTO:aletha.dewitt@dsti.gov.za
END:VEVENT
BEGIN:VEVENT
DTSTART;VALUE=DATE:20250806
DTEND;VALUE=DATE:20250809
DTSTAMP:20260424T082643
CREATED:20250423T101603Z
LAST-MODIFIED:20250423T101603Z
UID:27269-1754438400-1754697599@geodesy.science
SUMMARY:15th Session of the UN Committee of Experts on Global Geospatial Information Management (UN-GGIM)
DESCRIPTION:
URL:https://geodesy.science/event/15th-session-of-the-un-committee-of-experts-on-global-geospatial-information-management-un-ggim/
LOCATION:UN New York\, New York City\, USA
CATEGORIES:UN (United Nations)
ATTACH;FMTTYPE=image/png:https://geodesy.science/wp-content/uploads/un-ggim_logo_orig.png
END:VEVENT
BEGIN:VEVENT
DTSTART;VALUE=DATE:20231107
DTEND;VALUE=DATE:20231108
DTSTAMP:20260424T082643
CREATED:20250305T062104Z
LAST-MODIFIED:20250305T062320Z
UID:25585-1699315200-1699315200@geodesy.science
SUMMARY:UN-GGIM Capacity Building Workshop on Geodetic Reference Frames
DESCRIPTION:
URL:https://geodesy.science/event/un-ggim-capacity-building-workshop-on-geodetic-reference-frames/
LOCATION:Bali\, ID\, Bali\, Indonesia
CATEGORIES:UN (United Nations)
ATTACH;FMTTYPE=image/jpeg:https://geodesy.science/wp-content/uploads/6507fa2d9c55d.jpg
END:VEVENT
END:VCALENDAR