BEGIN:VCALENDAR
VERSION:2.0
PRODID:-//geodesy.science - IAG website - ECPv6.15.20//NONSGML v1.0//EN
CALSCALE:GREGORIAN
METHOD:PUBLISH
X-WR-CALNAME:geodesy.science - IAG website
X-ORIGINAL-URL:https://geodesy.science
X-WR-CALDESC:Events for geodesy.science - IAG website
REFRESH-INTERVAL;VALUE=DURATION:PT1H
X-Robots-Tag:noindex
X-PUBLISHED-TTL:PT1H
BEGIN:VTIMEZONE
TZID:UTC
BEGIN:STANDARD
TZOFFSETFROM:+0000
TZOFFSETTO:+0000
TZNAME:UTC
DTSTART:20220101T000000
END:STANDARD
END:VTIMEZONE
BEGIN:VEVENT
DTSTART;VALUE=DATE:20231016
DTEND;VALUE=DATE:20231021
DTSTAMP:20260424T143402
CREATED:20220701T061757Z
LAST-MODIFIED:20250305T062319Z
UID:25526-1697414400-1697846399@geodesy.science
SUMMARY:ILRS Technical Workshop
DESCRIPTION:The ILRS Technical Workshop is planned to be virtually on October 16-20\, 2023.
URL:https://geodesy.science/event/ilrs-technical-workshop/
LOCATION:Virtual\, US\, Virtual\, United States
CATEGORIES:IAG,ILRS
ATTACH;FMTTYPE=image/jpeg:https://geodesy.science/wp-content/uploads/64b42cbb8e352.jpg
END:VEVENT
END:VCALENDAR