BEGIN:VCALENDAR
VERSION:2.0
PRODID:-//geodesy.science - IAG website - ECPv6.15.20//NONSGML v1.0//EN
CALSCALE:GREGORIAN
METHOD:PUBLISH
X-WR-CALNAME:geodesy.science - IAG website
X-ORIGINAL-URL:https://geodesy.science
X-WR-CALDESC:Events for geodesy.science - IAG website
REFRESH-INTERVAL;VALUE=DURATION:PT1H
X-Robots-Tag:noindex
X-PUBLISHED-TTL:PT1H
BEGIN:VTIMEZONE
TZID:UTC
BEGIN:STANDARD
TZOFFSETFROM:+0000
TZOFFSETTO:+0000
TZNAME:UTC
DTSTART:20250101T000000
END:STANDARD
END:VTIMEZONE
BEGIN:VEVENT
DTSTART;VALUE=DATE:20260623
DTEND;VALUE=DATE:20260626
DTSTAMP:20260424T071702
CREATED:20260225T055525Z
LAST-MODIFIED:20260225T055525Z
UID:33941-1782172800-1782431999@geodesy.science
SUMMARY:IDS Workshop 2026
DESCRIPTION:The 2026 IDS Workshop will take place in Wiesbaden\, Germany\, from 23 to 25 June 2026\, in conjunction with 2026 OSTST meeting. The event is organized by Eumetsat\, Copernicus and CNES. \nThe workshop will highlight recent developments and the current status of scientific results based on DORIS data. It will also provide a forum for discussion and coordination of future activities within the IDS community.
URL:https://geodesy.science/event/ids-workshop-2026-2/
LOCATION:RheinMain CongressCenter\, CLS\, Wiesbaden\, 31520\, Germany
CATEGORIES:IDS
ATTACH;FMTTYPE=image/jpeg:https://geodesy.science/wp-content/uploads/csm_OSTST2026_webbanner_1cc96386e7_Copyright-IDS_2026-02-24_21ba6d.jpg
ORGANIZER;CN="IDS Central Bureau":MAILTO:ids.central.bureau@groupcls.com
END:VEVENT
END:VCALENDAR