BEGIN:VCALENDAR
VERSION:2.0
PRODID:-//geodesy.science - IAG website - ECPv6.15.20//NONSGML v1.0//EN
CALSCALE:GREGORIAN
METHOD:PUBLISH
X-ORIGINAL-URL:https://geodesy.science
X-WR-CALDESC:Events for geodesy.science - IAG website
REFRESH-INTERVAL;VALUE=DURATION:PT1H
X-Robots-Tag:noindex
X-PUBLISHED-TTL:PT1H
BEGIN:VTIMEZONE
TZID:Europe/Rome
BEGIN:DAYLIGHT
TZOFFSETFROM:+0100
TZOFFSETTO:+0200
TZNAME:CEST
DTSTART:20250330T010000
END:DAYLIGHT
BEGIN:STANDARD
TZOFFSETFROM:+0200
TZOFFSETTO:+0100
TZNAME:CET
DTSTART:20251026T010000
END:STANDARD
BEGIN:DAYLIGHT
TZOFFSETFROM:+0100
TZOFFSETTO:+0200
TZNAME:CEST
DTSTART:20260329T010000
END:DAYLIGHT
BEGIN:STANDARD
TZOFFSETFROM:+0200
TZOFFSETTO:+0100
TZNAME:CET
DTSTART:20261025T010000
END:STANDARD
BEGIN:DAYLIGHT
TZOFFSETFROM:+0100
TZOFFSETTO:+0200
TZNAME:CEST
DTSTART:20270328T010000
END:DAYLIGHT
BEGIN:STANDARD
TZOFFSETFROM:+0200
TZOFFSETTO:+0100
TZNAME:CET
DTSTART:20271031T010000
END:STANDARD
END:VTIMEZONE
BEGIN:VTIMEZONE
TZID:UTC
BEGIN:STANDARD
TZOFFSETFROM:+0000
TZOFFSETTO:+0000
TZNAME:UTC
DTSTART:20230101T000000
END:STANDARD
END:VTIMEZONE
BEGIN:VTIMEZONE
TZID:UTC
BEGIN:STANDARD
TZOFFSETFROM:+0000
TZOFFSETTO:+0000
TZNAME:UTC
DTSTART:20240101T000000
END:STANDARD
END:VTIMEZONE
BEGIN:VEVENT
DTSTART;VALUE=DATE:20260316
DTEND;VALUE=DATE:20260321
DTSTAMP:20260424T070813
CREATED:20251106T061830Z
LAST-MODIFIED:20251120T101331Z
UID:31681-1773619200-1774051199@geodesy.science
SUMMARY:EPOS days 2026
DESCRIPTION:EPOS Days is the flagship annual conference of the European Plate Observing System (EPOS)\, bringing together researchers\, data providers\, and infrastructure developers from across Europe to advance collaboration in solid Earth science. The event serves as a key forum to discuss the evolution of EPOS as a pan-European research infrastructure and to showcase progress in data interoperability\, FAIR principles\, and service integration across the various Thematic Core Services (TCS). \nThe programme combines plenary talks\, thematic sessions\, and interactive discussions covering: \n\nintroductions to EPOS and its services for newcomers and partners;\nupdates from the different TCS communities\, including geodesy\, seismology\, volcanology\, and geomagnetism;\nsessions on technical challenges\, data policy\, and ICS–TCS integration;\ndiscussions on responsible and societal use of research infrastructures;\ninternational collaboration and national implementation showcases;\nnetworking opportunities such as poster sessions and a dedicated Early Career Researchers event.\n\nOverall\, EPOS Days provides a dynamic platform to exchange knowledge\, align technical developments\, and strengthen the community working towards a FAIR\, open\, and sustainable EPOS infrastructure for solid Earth science in Europe.
URL:https://geodesy.science/event/epos-days-2026/
LOCATION:Palazzo Doglio hotel conference centre\, Cagliary\, Italy
CATEGORIES:Commission 3,IAGA,IASPEI,IAVCEI,IGETS,IGS,🌐 Other,📚 Education & Training
ATTACH;FMTTYPE=image/jpeg:https://geodesy.science/wp-content/uploads/EPOSdays_26_A3_DEF_blu_Copyright-EPOSERIC_2025-11-05_721b62.jpg
ORGANIZER;CN="EPOS ERIC":MAILTO:communication@epos-eric.eu
END:VEVENT
BEGIN:VEVENT
DTSTART;TZID=UTC:20250604T120000
DTEND;TZID=UTC:20250604T152000
DTSTAMP:20260424T070813
CREATED:20250516T022531Z
LAST-MODIFIED:20250516T022559Z
UID:27778-1749038400-1749050400@geodesy.science
SUMMARY:Tour de l’IGS 7th Stop: Spotlight on Africa
DESCRIPTION:This 7th stop focuses on the African continent. \nVirtual Organising Committee: Fernand Balé (Bureau National d’Etudes Techniques et de Développement\, Côte d’Ivoire) and Babatunde Rabiu (National Space Research and Development Agency\, Nigeria). \nRegistration: https://forms.gle/A5nyo8g9sjUDog3D9.
URL:https://geodesy.science/event/igs-tour-spotlight-on-africa/
CATEGORIES:Commission 1,IGS
ATTACH;FMTTYPE=image/png:https://geodesy.science/wp-content/uploads/logo_3586a18175da39ee6b3d4bf736bbb635_2x.png
ORGANIZER;CN="IGS":MAILTO:CB@igs.org
END:VEVENT
BEGIN:VEVENT
DTSTART;VALUE=DATE:20250513
DTEND;VALUE=DATE:20250516
DTSTAMP:20260424T070813
CREATED:20241210T060453Z
LAST-MODIFIED:20250408T034651Z
UID:25559-1747094400-1747353599@geodesy.science
SUMMARY:3rd IAG Commission 4 Symposium: Positioning and Applications
DESCRIPTION:The 3rd IAG Commission 4 Symposium: Positioning and Applications\, will take place from 13 to 15 May\, 2025\, in Wuhan\, China. \nAs a continued Symposium Series of IAG Commission 4\, this event will bring together scientists\, researchers\, and professionals working across the diverse field of positioning and its applications. The symposium a aims to foster the exchange of ideas and solutions\, addressing both practical and theoretical aspects of a wide range of topics\, including multi-frequency and multi-constellation GNSS\, GNSS augmentation\, sensor fusion and integrity monitoring\, geodetic atmospheric remote sensing\, engineering geodesy\, as well as emerging positioning techniques. \n\nEvent: 3rd IAG Commission 4 Symposium: Positioning and Applications\nDates: May 13-15\, 2025\nLocation: Wuhan\, CHINA\nWebsite: https://iagc4.bdsmart.cn\nIAG website link:
URL:https://geodesy.science/event/3rd-iag-commission-4-symposium-positioning-and-applications/
LOCATION:Wuhan\, China
CATEGORIES:Commission 4,IGS
ATTACH;FMTTYPE=image/png:https://geodesy.science/wp-content/uploads/whu-DXNnb__K1.png
END:VEVENT
BEGIN:VEVENT
DTSTART;VALUE=DATE:20240701
DTEND;VALUE=DATE:20240706
DTSTAMP:20260424T070813
CREATED:20250305T062105Z
LAST-MODIFIED:20250305T062321Z
UID:25593-1719792000-1720137600@geodesy.science
SUMMARY:IGS Symposium and Workshop
DESCRIPTION:
URL:https://geodesy.science/event/igs-symposium-and-workshop/
LOCATION:Bern\, CH\, Bern\, Switzerland
CATEGORIES:IAG,IGS
ATTACH;FMTTYPE=image/png:https://geodesy.science/wp-content/uploads/662f5e33e99dc.png
END:VEVENT
END:VCALENDAR