BEGIN:VCALENDAR
VERSION:2.0
PRODID:-//geodesy.science - IAG website - ECPv6.15.20//NONSGML v1.0//EN
CALSCALE:GREGORIAN
METHOD:PUBLISH
X-ORIGINAL-URL:https://geodesy.science
X-WR-CALDESC:Events for geodesy.science - IAG website
REFRESH-INTERVAL;VALUE=DURATION:PT1H
X-Robots-Tag:noindex
X-PUBLISHED-TTL:PT1H
BEGIN:VTIMEZONE
TZID:UTC
BEGIN:STANDARD
TZOFFSETFROM:+0000
TZOFFSETTO:+0000
TZNAME:UTC
DTSTART:20250101T000000
END:STANDARD
END:VTIMEZONE
BEGIN:VEVENT
DTSTART;VALUE=DATE:20260428
DTEND;VALUE=DATE:20260501
DTSTAMP:20260424T041412
CREATED:20251006T083456Z
LAST-MODIFIED:20251006T084024Z
UID:30450-1777334400-1777593599@geodesy.science
SUMMARY:ENC2026 European Navigation Conference
DESCRIPTION:We are pleased to announce the next edition of the European Navigation Conference series\, ENC 2026\, will take place in Vienna\, April 28-30\, 2026. \nThe ENC-series is now widely acknowledged as the most important annual event in Europe bringing together the full positioning\, navigation and timing community. \nWhat you can expect at ENC2026: \n\nTechnical programme across three days with up to four parallel sessions;\nDaily keynote addresses in plenary\, bringing the community together;\nA friendly and collaborative atmosphere\, with opportunities to meet exhibitors and fellow delegates\, including informally over drinks and dinner as part of the conference social programme;\nAn environment to gain insights\, grow your network and foster new collaborations.\n\nThe ENC-series is a collaboration across the European Group of Institutes of Navigation (EUGIN)\, with the Austrian Institute of Navigation (OVN) leading ENC 2026 at the Austria Center Vienna (ACV). \nThe conference will highlight the latest advancements in positioning\, navigation and timing. The broad technical program will include all related aspects of technology\, science\, systems and applications. \nENC-series is open to all from across industry\, academia\, government and user segments. Whatever your level of knowledge and experience\, you will find a warm welcome and have much to gain by joining ENC2026. \nWe warmly invite you to join us in Vienna. Please do prepare your abstract\, review our sponsorship opportunities and save the date to join us. \nThese web pages will remain the hub of latest information as we move towards the conference in April 2026. Please sign up here to receive regular updates by e-mail and also follow us on LinkedIN via the QR code below. \nSee you at #ENC2026 in Vienna! \nhttps://enc-series.org/ \n  \n 
URL:https://geodesy.science/event/enc2026/
LOCATION:Austria Center Vienna\, Bruno-Kreisky-Platz 1\, Vienna\, 1220\, Austria
CATEGORIES:Commission 4,IGS,🌐 Other
ATTACH;FMTTYPE=image/png:https://geodesy.science/wp-content/uploads/ENC2026_logo_Copyright-ENC_2025-10-06_d36538.png
ORGANIZER;CN="ENC":MAILTO:s-mart@posteo.org
END:VEVENT
BEGIN:VEVENT
DTSTART;VALUE=DATE:20260601
DTEND;VALUE=DATE:20260606
DTSTAMP:20260424T041412
CREATED:20250526T030337Z
LAST-MODIFIED:20250910T134919Z
UID:27957-1780272000-1780703999@geodesy.science
SUMMARY:IGS Workshop 2026
DESCRIPTION:Chile – where the crust trembles daily and even a traditional cocktail is nicknamed the “Earthquake” – will become the epicenter of an unprecedented scientific gathering in South America. \nOn behalf of the Local Organizing Committee\, we are pleased to formally announce the International GNSS Service (IGS) Workshop 2026\, which will take place from the 1st to the 5th of June 2026 at the Intercontinental Santiago. \nThe IGS Workshop serves as the premier global forum for advancing GNSS and geodesy. Hosted jointly by the University of Santiago de Chile (USACH) and the Military Geographic Institute (IGM)\, the 2026 edition will bring together leading experts\, researchers\, and practitioners to exchange insights\, showcase technological breakthroughs\, and define the trajectory of global geodetic infrastructure. \nKey Details : \n\nDates : 1-5 June 2026\nVenue : Intercontinental Santiago (Avenida Vitacura 2885\, 7550023 Las Condes\, Región Metropolitana\, Chile)\nWebsite : https://www.igs-workshop-2026.com\nGeneral Inquiries : workshop2026@igs.org
URL:https://geodesy.science/event/igs-workshop-2026/
LOCATION:InterContinental Hotels Santiago\, Av. Vitacura 2885\, Santiago de Chile\, 7550023\, Las Condes\, Chile
CATEGORIES:GGOS,IAG Services,IGS
ATTACH;FMTTYPE=image/jpeg:https://geodesy.science/wp-content/uploads/Banner-scaled_Copyright-IGS_2025-05-26.jpg
ORGANIZER;CN="IGS":MAILTO:CB@igs.org
END:VEVENT
BEGIN:VEVENT
DTSTART;VALUE=DATE:20261007
DTEND;VALUE=DATE:20261010
DTSTAMP:20260424T041412
CREATED:20260423T103027Z
LAST-MODIFIED:20260423T103027Z
UID:35616-1791331200-1791590399@geodesy.science
SUMMARY:ESA 10th International Colloquium on GNSS
DESCRIPTION:The topics of the conference include:\no   Time and Frequency Principles and Novel Clock Technologies\no   Scientific Aspects of Positioning and Navigation Applications\no   Reference Frames and Precise Orbit Determination\no   Navigation for Lunar and for Space Applications\no   Scientific Opportunities enabled by GNSS and PNT systems\no   Geodesy\, Geophysics and Earth Sciences\no   Fundamental Physics\no   GNSS Remote Sensing\, Reflectometry and Atmosphere Sounding\no   Optical and Quantum Principles and Technologies for PNT\n\nThe abstract submission has been extended to 8 May\, 2026. The selected papers will be published in Advances in Space Research.\n\nSee the website for details:\nhttps://atpi.eventsair.com/10th-gnss-science-colloquium/
URL:https://geodesy.science/event/esa-10th-international-colloquium-on-gnss/
LOCATION:École de technologie supérieure (ETS) of Quebec\, Montreal\, Canada
CATEGORIES:Commission 1,GGOS,IDS,IERS,IGS,ILRS,IVS
ATTACH;FMTTYPE=image/png:https://geodesy.science/wp-content/uploads/7bd4e54f6bbd4e06b82efc5cd1ea9835__1__Copyright-ESA_2026-04-22_efbb15.png
ORGANIZER;CN="European Space Agency (ESA)":MAILTO:esaconferencebureau@atpi.com
END:VEVENT
END:VCALENDAR